BEGIN:VCALENDAR
VERSION:2.0
PRODID:-//Cristo la Roca - ECPv6.15.20//NONSGML v1.0//EN
CALSCALE:GREGORIAN
METHOD:PUBLISH
X-WR-CALNAME:Cristo la Roca
X-ORIGINAL-URL:https://cristolarocaministerio.org
X-WR-CALDESC:Eventos para Cristo la Roca
REFRESH-INTERVAL;VALUE=DURATION:PT1H
X-Robots-Tag:noindex
X-PUBLISHED-TTL:PT1H
BEGIN:VTIMEZONE
TZID:UTC
BEGIN:STANDARD
TZOFFSETFROM:+0000
TZOFFSETTO:+0000
TZNAME:UTC
DTSTART:20230101T000000
END:STANDARD
END:VTIMEZONE
BEGIN:VEVENT
DTSTART;VALUE=DATE:20240331
DTEND;VALUE=DATE:20240401
DTSTAMP:20260424T143929
CREATED:20240328T052535Z
LAST-MODIFIED:20240407T170536Z
UID:5360-1711843200-1711929599@cristolarocaministerio.org
SUMMARY:Family FUN-DAY
DESCRIPTION:  \n \nDOMINGO 31 DE MARZO\nRESURRECCION\n\nTE INVITAMOS A TI Y TÚ FAMILIA\nA CELEBRAR ESTE DÍA MUY ESPECIAL
URL:https://cristolarocaministerio.org/event/domingo-31-de-marzo-resurreccion/
ATTACH;FMTTYPE=image/jpeg:https://cristolarocaministerio.org/wp-content/uploads/2024/03/434142732_444296871292610_380340652887679634_n-1.jpg
END:VEVENT
BEGIN:VEVENT
DTSTART;VALUE=DATE:20240331
DTEND;VALUE=DATE:20240401
DTSTAMP:20260424T143929
CREATED:20240407T171042Z
LAST-MODIFIED:20240407T171345Z
UID:5379-1711843200-1711929599@cristolarocaministerio.org
SUMMARY:La resurrección de Nuestro Señor Jesucristo
DESCRIPTION:https://cristolarocaministerio.org/wp-content/uploads/2024/03/WhatsApp-Video-2024-03-27-at-8.10.16-AM.mp4
URL:https://cristolarocaministerio.org/event/la-resurreccion-de-nuestro-senor-jesucristo/
ATTACH;FMTTYPE=image/png:https://cristolarocaministerio.org/wp-content/uploads/2024/04/rdj.png
END:VEVENT
END:VCALENDAR