BEGIN:VCALENDAR
VERSION:2.0
PRODID:-//Cristo la Roca - ECPv6.15.20//NONSGML v1.0//EN
CALSCALE:GREGORIAN
METHOD:PUBLISH
X-ORIGINAL-URL:https://cristolarocaministerio.org
X-WR-CALDESC:Eventos para Cristo la Roca
REFRESH-INTERVAL;VALUE=DURATION:PT1H
X-Robots-Tag:noindex
X-PUBLISHED-TTL:PT1H
BEGIN:VTIMEZONE
TZID:UTC
BEGIN:STANDARD
TZOFFSETFROM:+0000
TZOFFSETTO:+0000
TZNAME:UTC
DTSTART:20230101T000000
END:STANDARD
END:VTIMEZONE
BEGIN:VEVENT
DTSTART;VALUE=DATE:20240331
DTEND;VALUE=DATE:20240401
DTSTAMP:20260425T103852
CREATED:20240328T052535Z
LAST-MODIFIED:20240407T170536Z
UID:5360-1711843200-1711929599@cristolarocaministerio.org
SUMMARY:Family FUN-DAY
DESCRIPTION:  \n \nDOMINGO 31 DE MARZO\nRESURRECCION\n\nTE INVITAMOS A TI Y TÚ FAMILIA\nA CELEBRAR ESTE DÍA MUY ESPECIAL
URL:https://cristolarocaministerio.org/event/domingo-31-de-marzo-resurreccion/
ATTACH;FMTTYPE=image/jpeg:https://cristolarocaministerio.org/wp-content/uploads/2024/03/434142732_444296871292610_380340652887679634_n-1.jpg
END:VEVENT
BEGIN:VEVENT
DTSTART;VALUE=DATE:20240331
DTEND;VALUE=DATE:20240401
DTSTAMP:20260425T103852
CREATED:20240407T171042Z
LAST-MODIFIED:20240407T171345Z
UID:5379-1711843200-1711929599@cristolarocaministerio.org
SUMMARY:La resurrección de Nuestro Señor Jesucristo
DESCRIPTION:https://cristolarocaministerio.org/wp-content/uploads/2024/03/WhatsApp-Video-2024-03-27-at-8.10.16-AM.mp4
URL:https://cristolarocaministerio.org/event/la-resurreccion-de-nuestro-senor-jesucristo/
ATTACH;FMTTYPE=image/png:https://cristolarocaministerio.org/wp-content/uploads/2024/04/rdj.png
END:VEVENT
BEGIN:VEVENT
DTSTART;VALUE=DATE:20240518
DTEND;VALUE=DATE:20240519
DTSTAMP:20260425T103852
CREATED:20240517T140143Z
LAST-MODIFIED:20240517T140235Z
UID:5393-1715990400-1716076799@cristolarocaministerio.org
SUMMARY:Encuentro de Jóvenes
DESCRIPTION:
URL:https://cristolarocaministerio.org/event/encuentro-de-jovenes/
ATTACH;FMTTYPE=image/jpeg:https://cristolarocaministerio.org/wp-content/uploads/2024/05/WhatsApp-Image-2024-05-16-at-9.28.08-PM.jpeg
END:VEVENT
BEGIN:VEVENT
DTSTART;VALUE=DATE:20240615
DTEND;VALUE=DATE:20240616
DTSTAMP:20260425T103852
CREATED:20240603T174705Z
LAST-MODIFIED:20240603T174705Z
UID:5415-1718409600-1718495999@cristolarocaministerio.org
SUMMARY:Sorteo de Bicicleta Electrica Jetson
DESCRIPTION:15 de Junio Sábado 11 AM\, 2024 \n 
URL:https://cristolarocaministerio.org/event/sorteo-de-bicicleta-electrica-jetson/
ATTACH;FMTTYPE=image/jpeg:https://cristolarocaministerio.org/wp-content/uploads/2024/06/WhatsApp-Image-2024-06-02-at-1.49.12-PM.jpeg
END:VEVENT
BEGIN:VEVENT
DTSTART;VALUE=DATE:20240816
DTEND;VALUE=DATE:20240817
DTSTAMP:20260425T103852
CREATED:20240731T164900Z
LAST-MODIFIED:20240731T164900Z
UID:5458-1723766400-1723852799@cristolarocaministerio.org
SUMMARY:Noche de Vigilia
DESCRIPTION:Ministerio de Varones CLR le invita este 16 de Agosto 2024 a partir de las 08:00 pm
URL:https://cristolarocaministerio.org/event/noche-de-vigilia/
ATTACH;FMTTYPE=image/jpeg:https://cristolarocaministerio.org/wp-content/uploads/2024/07/WhatsApp-Image-2024-07-28-at-5.06.53-PM.jpeg
END:VEVENT
BEGIN:VEVENT
DTSTART;VALUE=DATE:20240826
DTEND;VALUE=DATE:20240827
DTSTAMP:20260425T103852
CREATED:20240809T044443Z
LAST-MODIFIED:20240809T044443Z
UID:5460-1724630400-1724716799@cristolarocaministerio.org
SUMMARY:Fuego Liquido
DESCRIPTION:
URL:https://cristolarocaministerio.org/event/fuego-liquido/
ATTACH;FMTTYPE=image/jpeg:https://cristolarocaministerio.org/wp-content/uploads/2024/08/WhatsApp-Image-2024-08-08-at-10.30.39-PM.jpeg
END:VEVENT
BEGIN:VEVENT
DTSTART;TZID=UTC:20240830T080000
DTEND;TZID=UTC:20240830T170000
DTSTAMP:20260425T103852
CREATED:20240830T201115Z
LAST-MODIFIED:20240830T201115Z
UID:5480-1725004800-1725037200@cristolarocaministerio.org
SUMMARY:S.O.S. ZAQUEO
DESCRIPTION:
URL:https://cristolarocaministerio.org/event/s-o-s-zaqueo/
ATTACH;FMTTYPE=image/jpeg:https://cristolarocaministerio.org/wp-content/uploads/2024/08/WhatsApp-Image-2024-08-27-at-4.44.21-PM.jpeg
END:VEVENT
BEGIN:VEVENT
DTSTART;VALUE=DATE:20240907
DTEND;VALUE=DATE:20240908
DTSTAMP:20260425T103852
CREATED:20240906T190104Z
LAST-MODIFIED:20240906T190227Z
UID:5482-1725667200-1725753599@cristolarocaministerio.org
SUMMARY:AYUNO PARA LIDERES Y CONGREGACION
DESCRIPTION:
URL:https://cristolarocaministerio.org/event/5482/
ATTACH;FMTTYPE=image/jpeg:https://cristolarocaministerio.org/wp-content/uploads/2024/09/WhatsApp-Image-2024-09-06-at-1.05.01-PM.jpeg
END:VEVENT
BEGIN:VEVENT
DTSTART;TZID=UTC:20241031T080000
DTEND;TZID=UTC:20241031T170000
DTSTAMP:20260425T103852
CREATED:20241031T164620Z
LAST-MODIFIED:20241031T164620Z
UID:5513-1730361600-1730394000@cristolarocaministerio.org
SUMMARY:Worship Music
DESCRIPTION:
URL:https://cristolarocaministerio.org/event/worship-music/
ATTACH;FMTTYPE=image/jpeg:https://cristolarocaministerio.org/wp-content/uploads/2024/10/WhatsApp-Image-2024-10-30-at-6.01.24-PM.jpeg
END:VEVENT
BEGIN:VEVENT
DTSTART;TZID=UTC:20251031T180000
DTEND;TZID=UTC:20251031T233000
DTSTAMP:20260425T103852
CREATED:20251028T181534Z
LAST-MODIFIED:20251028T181534Z
UID:5716-1761933600-1761953400@cristolarocaministerio.org
SUMMARY:Alleluya Night and Movie Night
DESCRIPTION:
URL:https://cristolarocaministerio.org/event/alleluya-night-and-movie-night/
ATTACH;FMTTYPE=image/jpeg:https://cristolarocaministerio.org/wp-content/uploads/2025/10/Pelicula-de-adoracion.jpg
END:VEVENT
BEGIN:VEVENT
DTSTART;TZID=UTC:20251114T110000
DTEND;TZID=UTC:20251116T233000
DTSTAMP:20260425T103852
CREATED:20251028T193550Z
LAST-MODIFIED:20251028T193550Z
UID:5722-1763118000-1763335800@cristolarocaministerio.org
SUMMARY:Celebrando 36
DESCRIPTION:
URL:https://cristolarocaministerio.org/event/celebrando-36/
ATTACH;FMTTYPE=image/jpeg:https://cristolarocaministerio.org/wp-content/uploads/2025/10/WhatsApp-Image-2025-10-21-at-4.47.55-PM.jpeg
END:VEVENT
BEGIN:VEVENT
DTSTART;TZID=UTC:20251127T100000
DTEND;TZID=UTC:20251127T170000
DTSTAMP:20260425T103852
CREATED:20251127T164215Z
LAST-MODIFIED:20251127T164215Z
UID:5757-1764237600-1764262800@cristolarocaministerio.org
SUMMARY:Servicio Acción de gracias
DESCRIPTION:
URL:https://cristolarocaministerio.org/event/servicio-accion-de-gracias/
ATTACH;FMTTYPE=image/jpeg:https://cristolarocaministerio.org/wp-content/uploads/2025/11/WhatsApp-Image-2025-11-21-at-9.39.56-PM.jpeg
END:VEVENT
BEGIN:VEVENT
DTSTART;TZID=UTC:20251206T100000
DTEND;TZID=UTC:20251206T170000
DTSTAMP:20260425T103852
CREATED:20251202T172725Z
LAST-MODIFIED:20251202T172725Z
UID:5790-1765015200-1765040400@cristolarocaministerio.org
SUMMARY:Tiempos del Espiritu Santo un de repente
DESCRIPTION:
URL:https://cristolarocaministerio.org/event/tiempos-del-espiritu-santo-un-de-repente/
ATTACH;FMTTYPE=image/jpeg:https://cristolarocaministerio.org/wp-content/uploads/2025/12/WhatsApp-Image-2025-12-02-at-11.50.58-AM.jpeg
END:VEVENT
BEGIN:VEVENT
DTSTART;VALUE=DATE:20260110
DTEND;VALUE=DATE:20260111
DTSTAMP:20260425T103852
CREATED:20260102T202643Z
LAST-MODIFIED:20260102T202643Z
UID:5810-1768003200-1768089599@cristolarocaministerio.org
SUMMARY:Conferencia
DESCRIPTION:
URL:https://cristolarocaministerio.org/event/conferencia/
ATTACH;FMTTYPE=image/png:https://cristolarocaministerio.org/wp-content/uploads/2026/01/conferencia.png
END:VEVENT
BEGIN:VEVENT
DTSTART;VALUE=DATE:20260303
DTEND;VALUE=DATE:20260308
DTSTAMP:20260425T103852
CREATED:20260214T044415Z
LAST-MODIFIED:20260214T044830Z
UID:5982-1772496000-1772927999@cristolarocaministerio.org
SUMMARY:Ayuno y Oración
DESCRIPTION:
URL:https://cristolarocaministerio.org/event/ayuno-y-oracion/
ATTACH;FMTTYPE=image/jpeg:https://cristolarocaministerio.org/wp-content/uploads/2026/02/WhatsApp-Image-2026-02-13-at-10.55.43-PM.jpeg
END:VEVENT
BEGIN:VEVENT
DTSTART;TZID=UTC:20260401T080000
DTEND;TZID=UTC:20260401T170000
DTSTAMP:20260425T103852
CREATED:20260401T160632Z
LAST-MODIFIED:20260401T160739Z
UID:6005-1775030400-1775062800@cristolarocaministerio.org
SUMMARY:Santa convocatoria
DESCRIPTION:
URL:https://cristolarocaministerio.org/event/santa-convocatoria/
ATTACH;FMTTYPE=image/jpeg:https://cristolarocaministerio.org/wp-content/uploads/2026/04/WhatsApp-Image-2026-03-29-at-12.30.02-PM.jpeg
END:VEVENT
END:VCALENDAR