BEGIN:VCALENDAR
VERSION:2.0
PRODID:-//Cristo la Roca - ECPv6.15.20//NONSGML v1.0//EN
CALSCALE:GREGORIAN
METHOD:PUBLISH
X-WR-CALNAME:Cristo la Roca
X-ORIGINAL-URL:https://cristolarocaministerio.org
X-WR-CALDESC:Eventos para Cristo la Roca
REFRESH-INTERVAL;VALUE=DURATION:PT1H
X-Robots-Tag:noindex
X-PUBLISHED-TTL:PT1H
BEGIN:VTIMEZONE
TZID:UTC
BEGIN:STANDARD
TZOFFSETFROM:+0000
TZOFFSETTO:+0000
TZNAME:UTC
DTSTART:20220101T000000
END:STANDARD
END:VTIMEZONE
BEGIN:VEVENT
DTSTART;VALUE=DATE:20240615
DTEND;VALUE=DATE:20240616
DTSTAMP:20260422T214338
CREATED:20240603T174705Z
LAST-MODIFIED:20240603T174705Z
UID:5415-1718409600-1718495999@cristolarocaministerio.org
SUMMARY:Sorteo de Bicicleta Electrica Jetson
DESCRIPTION:15 de Junio Sábado 11 AM\, 2024 \n 
URL:https://cristolarocaministerio.org/event/sorteo-de-bicicleta-electrica-jetson/
ATTACH;FMTTYPE=image/jpeg:https://cristolarocaministerio.org/wp-content/uploads/2024/06/WhatsApp-Image-2024-06-02-at-1.49.12-PM.jpeg
END:VEVENT
BEGIN:VEVENT
DTSTART;VALUE=DATE:20240518
DTEND;VALUE=DATE:20240519
DTSTAMP:20260422T214338
CREATED:20240517T140143Z
LAST-MODIFIED:20240517T140235Z
UID:5393-1715990400-1716076799@cristolarocaministerio.org
SUMMARY:Encuentro de Jóvenes
DESCRIPTION:
URL:https://cristolarocaministerio.org/event/encuentro-de-jovenes/
ATTACH;FMTTYPE=image/jpeg:https://cristolarocaministerio.org/wp-content/uploads/2024/05/WhatsApp-Image-2024-05-16-at-9.28.08-PM.jpeg
END:VEVENT
BEGIN:VEVENT
DTSTART;VALUE=DATE:20240331
DTEND;VALUE=DATE:20240401
DTSTAMP:20260422T214338
CREATED:20240407T171042Z
LAST-MODIFIED:20240407T171345Z
UID:5379-1711843200-1711929599@cristolarocaministerio.org
SUMMARY:La resurrección de Nuestro Señor Jesucristo
DESCRIPTION:https://cristolarocaministerio.org/wp-content/uploads/2024/03/WhatsApp-Video-2024-03-27-at-8.10.16-AM.mp4
URL:https://cristolarocaministerio.org/event/la-resurreccion-de-nuestro-senor-jesucristo/
ATTACH;FMTTYPE=image/png:https://cristolarocaministerio.org/wp-content/uploads/2024/04/rdj.png
END:VEVENT
BEGIN:VEVENT
DTSTART;VALUE=DATE:20240331
DTEND;VALUE=DATE:20240401
DTSTAMP:20260422T214338
CREATED:20240328T052535Z
LAST-MODIFIED:20240407T170536Z
UID:5360-1711843200-1711929599@cristolarocaministerio.org
SUMMARY:Family FUN-DAY
DESCRIPTION:  \n \nDOMINGO 31 DE MARZO\nRESURRECCION\n\nTE INVITAMOS A TI Y TÚ FAMILIA\nA CELEBRAR ESTE DÍA MUY ESPECIAL
URL:https://cristolarocaministerio.org/event/domingo-31-de-marzo-resurreccion/
ATTACH;FMTTYPE=image/jpeg:https://cristolarocaministerio.org/wp-content/uploads/2024/03/434142732_444296871292610_380340652887679634_n-1.jpg
END:VEVENT
BEGIN:VEVENT
DTSTART;TZID=UTC:20240311T080000
DTEND;TZID=UTC:20240311T170000
DTSTAMP:20260422T214338
CREATED:20240311T010754Z
LAST-MODIFIED:20240311T010754Z
UID:5296-1710144000-1710176400@cristolarocaministerio.org
SUMMARY:Taller de Evangelismo
DESCRIPTION:
URL:https://cristolarocaministerio.org/event/taller-de-evangelismo/
ATTACH;FMTTYPE=image/jpeg:https://cristolarocaministerio.org/wp-content/uploads/2024/03/WhatsApp-Image-2024-03-09-at-6.12.11-AM.jpeg
END:VEVENT
BEGIN:VEVENT
DTSTART;VALUE=DATE:20240127
DTEND;VALUE=DATE:20240128
DTSTAMP:20260422T214338
CREATED:20240125T161349Z
LAST-MODIFIED:20240125T161349Z
UID:5274-1706313600-1706399999@cristolarocaministerio.org
SUMMARY:Retiro de Hombres
DESCRIPTION:
URL:https://cristolarocaministerio.org/event/retiro-de-hombres/
ATTACH;FMTTYPE=image/jpeg:https://cristolarocaministerio.org/wp-content/uploads/2024/01/WhatsApp-Image-2024-01-23-at-12.58.51-PM.jpeg
END:VEVENT
BEGIN:VEVENT
DTSTART;VALUE=DATE:20240106
DTEND;VALUE=DATE:20240127
DTSTAMP:20260422T214338
CREATED:20240108T035629Z
LAST-MODIFIED:20240108T035629Z
UID:5268-1704499200-1706313599@cristolarocaministerio.org
SUMMARY:21 días de ayuno
DESCRIPTION:
URL:https://cristolarocaministerio.org/event/21-dias-de-ayuno/
ATTACH;FMTTYPE=image/jpeg:https://cristolarocaministerio.org/wp-content/uploads/2024/01/WhatsApp-Image-2024-01-07-at-6.54.49-PM.jpeg
END:VEVENT
BEGIN:VEVENT
DTSTART;VALUE=DATE:20231207
DTEND;VALUE=DATE:20231208
DTSTAMP:20260422T214338
CREATED:20231203T182430Z
LAST-MODIFIED:20231203T182430Z
UID:5197-1701907200-1701993599@cristolarocaministerio.org
SUMMARY:Servicio de Misiones
DESCRIPTION:
URL:https://cristolarocaministerio.org/event/servicio-de-misiones/
ATTACH;FMTTYPE=image/jpeg:https://cristolarocaministerio.org/wp-content/uploads/2023/12/WhatsApp-Image-2023-12-02-at-5.55.12-PM.jpeg
END:VEVENT
BEGIN:VEVENT
DTSTART;VALUE=DATE:20231202
DTEND;VALUE=DATE:20231203
DTSTAMP:20260422T214338
CREATED:20231203T182303Z
LAST-MODIFIED:20231203T182303Z
UID:5194-1701475200-1701561599@cristolarocaministerio.org
SUMMARY:Encuentro de Hombres
DESCRIPTION:
URL:https://cristolarocaministerio.org/event/encuentro-de-hombres-2/
ATTACH;FMTTYPE=image/jpeg:https://cristolarocaministerio.org/wp-content/uploads/2023/12/WhatsApp-Image-2023-12-02-at-6.45.33-PM.jpeg
END:VEVENT
BEGIN:VEVENT
DTSTART;TZID=UTC:20231020T200000
DTEND;TZID=UTC:20231020T233000
DTSTAMP:20260422T214338
CREATED:20231016T153623Z
LAST-MODIFIED:20231016T155536Z
UID:5109-1697832000-1697844600@cristolarocaministerio.org
SUMMARY:Servicio Concierto
DESCRIPTION:Gustavo Lima  Presenta: Concierto Servicio \nEste viernes 20 de Octubre 2023 a partir de las 8.00 pm
URL:https://cristolarocaministerio.org/event/servicio-concierto/
ATTACH;FMTTYPE=image/jpeg:https://cristolarocaministerio.org/wp-content/uploads/2023/10/WhatsApp-Image-2023-10-15-at-1.34.23-PM-1.jpeg
END:VEVENT
BEGIN:VEVENT
DTSTART;TZID=UTC:20231016T080000
DTEND;TZID=UTC:20231016T170000
DTSTAMP:20260422T214338
CREATED:20231016T155333Z
LAST-MODIFIED:20231016T155333Z
UID:5127-1697443200-1697475600@cristolarocaministerio.org
SUMMARY:Encuentro de Mujeres
DESCRIPTION:El Ministerio de Mujeres presenta: Encuentro de Mujeres\nEste 28 de Octubre 2023
URL:https://cristolarocaministerio.org/event/encuentro-de-mujeres-2/
ATTACH;FMTTYPE=image/jpeg:https://cristolarocaministerio.org/wp-content/uploads/2023/10/WhatsApp-Image-2023-10-15-at-1.33.58-PM-1.jpeg
END:VEVENT
BEGIN:VEVENT
DTSTART;VALUE=DATE:20230915
DTEND;VALUE=DATE:20230918
DTSTAMP:20260422T214338
CREATED:20230803T190632Z
LAST-MODIFIED:20230803T190632Z
UID:5086-1694736000-1694995199@cristolarocaministerio.org
SUMMARY:Evento Profético
DESCRIPTION:
URL:https://cristolarocaministerio.org/event/evento-profetico/
ATTACH;FMTTYPE=image/jpeg:https://cristolarocaministerio.org/wp-content/uploads/2023/08/WhatsApp-Image-2023-08-03-at-12.17.40-PM.jpeg
END:VEVENT
BEGIN:VEVENT
DTSTART;VALUE=DATE:20230904
DTEND;VALUE=DATE:20230905
DTSTAMP:20260422T214338
CREATED:20230830T021025Z
LAST-MODIFIED:20231016T155718Z
UID:5100-1693785600-1693871999@cristolarocaministerio.org
SUMMARY:PICNIC LABOR DAY
DESCRIPTION:
URL:https://cristolarocaministerio.org/event/picnic-labor-day/
ATTACH;FMTTYPE=image/jpeg:https://cristolarocaministerio.org/wp-content/uploads/2023/08/WhatsApp-Image-2023-08-27-at-1.45.09-PM.jpeg
END:VEVENT
BEGIN:VEVENT
DTSTART;VALUE=DATE:20230804
DTEND;VALUE=DATE:20230805
DTSTAMP:20260422T214338
CREATED:20230804T225556Z
LAST-MODIFIED:20230804T225556Z
UID:5093-1691107200-1691193599@cristolarocaministerio.org
SUMMARY:Vigilia Congragacional
DESCRIPTION:
URL:https://cristolarocaministerio.org/event/vigilia-congragacional/
ATTACH;FMTTYPE=image/jpeg:https://cristolarocaministerio.org/wp-content/uploads/2023/08/WhatsApp-Image-2023-08-04-at-5.50.49-AM.jpeg
END:VEVENT
BEGIN:VEVENT
DTSTART;VALUE=DATE:20230721
DTEND;VALUE=DATE:20230722
DTSTAMP:20260422T214338
CREATED:20230721T034032Z
LAST-MODIFIED:20230721T034032Z
UID:4970-1689897600-1689983999@cristolarocaministerio.org
SUMMARY:Levantando el Sacerdocio
DESCRIPTION:
URL:https://cristolarocaministerio.org/event/levantando-el-sacerdocio/
ATTACH;FMTTYPE=image/jpeg:https://cristolarocaministerio.org/wp-content/uploads/2023/07/WhatsApp-Image-2023-07-11-at-9.10.50-PM.jpeg
END:VEVENT
BEGIN:VEVENT
DTSTART;VALUE=DATE:20230721
DTEND;VALUE=DATE:20230722
DTSTAMP:20260422T214338
CREATED:20230721T033713Z
LAST-MODIFIED:20230721T033713Z
UID:4967-1689897600-1689983999@cristolarocaministerio.org
SUMMARY:Navegando con Jesús
DESCRIPTION:
URL:https://cristolarocaministerio.org/event/navegando-con-jesus/
ATTACH;FMTTYPE=image/jpeg:https://cristolarocaministerio.org/wp-content/uploads/2023/07/WhatsApp-Image-2023-07-18-at-7.07.52-AM-1.jpeg
END:VEVENT
BEGIN:VEVENT
DTSTART;VALUE=DATE:20230708
DTEND;VALUE=DATE:20230709
DTSTAMP:20260422T214338
CREATED:20230705T004950Z
LAST-MODIFIED:20230705T004950Z
UID:4945-1688774400-1688860799@cristolarocaministerio.org
SUMMARY:Sábado de Ayuno y Oración
DESCRIPTION:
URL:https://cristolarocaministerio.org/event/sabado-de-ayuno-y-oracion/
ATTACH;FMTTYPE=image/jpeg:https://cristolarocaministerio.org/wp-content/uploads/2023/07/WhatsApp-Image-2023-07-04-at-3.56.39-PM.jpeg
END:VEVENT
BEGIN:VEVENT
DTSTART;TZID=UTC:20230706T080000
DTEND;TZID=UTC:20230706T170000
DTSTAMP:20260422T214338
CREATED:20230706T041138Z
LAST-MODIFIED:20230706T041138Z
UID:4959-1688630400-1688662800@cristolarocaministerio.org
SUMMARY:Grupo Familiar Celula
DESCRIPTION:Todos los Miércoles 8:00 p.m.
URL:https://cristolarocaministerio.org/event/grupo-familiar-celula/
ATTACH;FMTTYPE=image/jpeg:https://cristolarocaministerio.org/wp-content/uploads/2023/07/WhatsApp-Image-2023-07-05-at-7.18.55-PM.jpeg
END:VEVENT
BEGIN:VEVENT
DTSTART;VALUE=DATE:20230705
DTEND;VALUE=DATE:20230706
DTSTAMP:20260422T214338
CREATED:20230706T040756Z
LAST-MODIFIED:20230706T040851Z
UID:4956-1688515200-1688601599@cristolarocaministerio.org
SUMMARY:Celula Virtual
DESCRIPTION:
URL:https://cristolarocaministerio.org/event/4956/
ATTACH;FMTTYPE=image/jpeg:https://cristolarocaministerio.org/wp-content/uploads/2023/07/WhatsApp-Image-2023-07-05-at-7.18.30-PM.jpeg
END:VEVENT
BEGIN:VEVENT
DTSTART;VALUE=DATE:20230702
DTEND;VALUE=DATE:20230703
DTSTAMP:20260422T214338
CREATED:20230630T185923Z
LAST-MODIFIED:20230630T185923Z
UID:4942-1688256000-1688342399@cristolarocaministerio.org
SUMMARY:Este Domingo Pro-Templo
DESCRIPTION:
URL:https://cristolarocaministerio.org/event/este-domingo-pro-templo/
ATTACH;FMTTYPE=image/jpeg:https://cristolarocaministerio.org/wp-content/uploads/2023/06/WhatsApp-Image-2023-06-29-at-3.28.38-PM.jpeg
END:VEVENT
BEGIN:VEVENT
DTSTART;VALUE=DATE:20230627
DTEND;VALUE=DATE:20230630
DTSTAMP:20260422T214338
CREATED:20230601T024557Z
LAST-MODIFIED:20230601T024557Z
UID:4829-1687824000-1688083199@cristolarocaministerio.org
SUMMARY:Campamento de Jóvenes RMS
DESCRIPTION:
URL:https://cristolarocaministerio.org/event/campamento-de-jovenes-rms/
ATTACH;FMTTYPE=image/jpeg:https://cristolarocaministerio.org/wp-content/uploads/2023/06/WhatsApp-Image-2023-05-31-at-8.53.09-PM.jpeg
END:VEVENT
BEGIN:VEVENT
DTSTART;TZID=UTC:20230601T080000
DTEND;TZID=UTC:20230601T170000
DTSTAMP:20260422T214338
CREATED:20230601T032039Z
LAST-MODIFIED:20230602T035227Z
UID:4831-1685606400-1685638800@cristolarocaministerio.org
SUMMARY:Día del Padre SERVICIO ESPECIAL
DESCRIPTION:
URL:https://cristolarocaministerio.org/event/dia-del-padre-servicio-especial/
ATTACH;FMTTYPE=image/jpeg:https://cristolarocaministerio.org/wp-content/uploads/2023/06/AVISOPADRE.jpg
END:VEVENT
BEGIN:VEVENT
DTSTART;VALUE=DATE:20230527
DTEND;VALUE=DATE:20230602
DTSTAMP:20260422T214338
CREATED:20230601T012153Z
LAST-MODIFIED:20230601T012153Z
UID:4823-1685145600-1685663999@cristolarocaministerio.org
SUMMARY:Servicio de Pentecostés
DESCRIPTION:
URL:https://cristolarocaministerio.org/event/servicio-de-pentecostes/
ATTACH;FMTTYPE=image/jpeg:https://cristolarocaministerio.org/wp-content/uploads/2023/06/WhatsApp-Image-2023-05-23-at-6.57.52-PM.jpeg
END:VEVENT
BEGIN:VEVENT
DTSTART;VALUE=DATE:20230520
DTEND;VALUE=DATE:20230521
DTSTAMP:20260422T214338
CREATED:20230401T150254Z
LAST-MODIFIED:20230401T150254Z
UID:4796-1684540800-1684627199@cristolarocaministerio.org
SUMMARY:Progreso de un Discipulado Efectivo
DESCRIPTION:  \n \n“PROGRESO DE UN DICIPULADO EFECTIVO”\nDia; 20 de Mayo 2023 \nHora :  9:00 a.m. – 1:00 p.m.  
URL:https://cristolarocaministerio.org/event/progreso-de-un-discipulado-efectivo/
ATTACH;FMTTYPE=image/jpeg:https://cristolarocaministerio.org/wp-content/uploads/2023/04/WhatsApp-Image-2023-03-31-at-8.21.28-AM-1.jpeg
END:VEVENT
BEGIN:VEVENT
DTSTART;VALUE=DATE:20230511
DTEND;VALUE=DATE:20230512
DTSTAMP:20260422T214338
CREATED:20230429T175509Z
LAST-MODIFIED:20230429T175529Z
UID:4808-1683763200-1683849599@cristolarocaministerio.org
SUMMARY:Servicio Especial Día de la Madre
DESCRIPTION:
URL:https://cristolarocaministerio.org/event/servicio-especial-dia-de-la-madre/
ATTACH;FMTTYPE=image/png:https://cristolarocaministerio.org/wp-content/uploads/2023/04/dia-de-la-madre-cr.png
END:VEVENT
BEGIN:VEVENT
DTSTART;VALUE=DATE:20230407
DTEND;VALUE=DATE:20230408
DTSTAMP:20260422T214338
CREATED:20230407T015627Z
LAST-MODIFIED:20230407T015627Z
UID:4802-1680825600-1680911999@cristolarocaministerio.org
SUMMARY:Servicio Especial Viernes Santo
DESCRIPTION:Servicio Especial Viernes Santo\nAbril 7 2023 8:00 PM
URL:https://cristolarocaministerio.org/event/servicio-especial-viernes-santo/
ATTACH;FMTTYPE=image/jpeg:https://cristolarocaministerio.org/wp-content/uploads/2023/04/WhatsApp-Image-2023-04-06-at-6.23.37-PM.jpeg
END:VEVENT
BEGIN:VEVENT
DTSTART;VALUE=DATE:20230325
DTEND;VALUE=DATE:20230326
DTSTAMP:20260422T214338
CREATED:20230323T154646Z
LAST-MODIFIED:20230323T154646Z
UID:4790-1679702400-1679788799@cristolarocaministerio.org
SUMMARY:Encuentro de Hombres
DESCRIPTION:  \nSábado 25 de Marzo Horas 8:30 am
URL:https://cristolarocaministerio.org/event/encuentro-de-hombres/
ATTACH;FMTTYPE=image/jpeg:https://cristolarocaministerio.org/wp-content/uploads/2023/03/WhatsApp-Image-2023-03-23-at-6.57.13-AM.jpeg
END:VEVENT
BEGIN:VEVENT
DTSTART;VALUE=DATE:20230325
DTEND;VALUE=DATE:20230327
DTSTAMP:20260422T214338
CREATED:20230304T021321Z
LAST-MODIFIED:20230304T022518Z
UID:4747-1679702400-1679875199@cristolarocaministerio.org
SUMMARY:CLR ENCUENTRO DE HOMBRES
DESCRIPTION:“CLR ENCUENTRO DE HOMBRES”\nSábado 25 de Marzo 2023 \nHora 9:00 AM
URL:https://cristolarocaministerio.org/event/clr-encuentro-de-hombres/
ATTACH;FMTTYPE=image/jpeg:https://cristolarocaministerio.org/wp-content/uploads/2023/03/CRL-ENCUENTRO-HOMBRES-011.jpg
END:VEVENT
BEGIN:VEVENT
DTSTART;VALUE=DATE:20230325
DTEND;VALUE=DATE:20230326
DTSTAMP:20260422T214338
CREATED:20230304T020751Z
LAST-MODIFIED:20230304T022848Z
UID:4743-1679702400-1679788799@cristolarocaministerio.org
SUMMARY:CLR BAUTISMO EN AGUA
DESCRIPTION:Domingo 25 de Marzo \nInfo: 754-779-6475 WhatsApp
URL:https://cristolarocaministerio.org/event/clr-bautismo-en-agua/
ATTACH;FMTTYPE=image/jpeg:https://cristolarocaministerio.org/wp-content/uploads/2023/03/BAUTIZO-EN-AGUA-011.jpg
END:VEVENT
BEGIN:VEVENT
DTSTART;TZID=UTC:20230323T080000
DTEND;TZID=UTC:20230323T170000
DTSTAMP:20260422T214338
CREATED:20230323T155323Z
LAST-MODIFIED:20230323T155323Z
UID:4794-1679558400-1679590800@cristolarocaministerio.org
SUMMARY:SERVICIO DE SANIDAD Y SERVICIOS
DESCRIPTION:Viernes 24\,  8:00 pm\nSábado 25\,  6:00 pm
URL:https://cristolarocaministerio.org/event/servicio-de-sanidad-y-servicios/
ATTACH;FMTTYPE=image/jpeg:https://cristolarocaministerio.org/wp-content/uploads/2023/03/WhatsApp-Image-2023-03-22-at-8.20.32-AM-1.jpeg
END:VEVENT
END:VCALENDAR