BEGIN:VCALENDAR
VERSION:2.0
PRODID:-//Cristo la Roca - ECPv6.15.20//NONSGML v1.0//EN
CALSCALE:GREGORIAN
METHOD:PUBLISH
X-ORIGINAL-URL:https://cristolarocaministerio.org
X-WR-CALDESC:Eventos para Cristo la Roca
REFRESH-INTERVAL;VALUE=DURATION:PT1H
X-Robots-Tag:noindex
X-PUBLISHED-TTL:PT1H
BEGIN:VTIMEZONE
TZID:UTC
BEGIN:STANDARD
TZOFFSETFROM:+0000
TZOFFSETTO:+0000
TZNAME:UTC
DTSTART:20210101T000000
END:STANDARD
END:VTIMEZONE
BEGIN:VEVENT
DTSTART;VALUE=DATE:20230511
DTEND;VALUE=DATE:20230512
DTSTAMP:20260423T012641
CREATED:20230429T175509Z
LAST-MODIFIED:20230429T175529Z
UID:4808-1683763200-1683849599@cristolarocaministerio.org
SUMMARY:Servicio Especial Día de la Madre
DESCRIPTION:
URL:https://cristolarocaministerio.org/event/servicio-especial-dia-de-la-madre/
ATTACH;FMTTYPE=image/png:https://cristolarocaministerio.org/wp-content/uploads/2023/04/dia-de-la-madre-cr.png
END:VEVENT
BEGIN:VEVENT
DTSTART;VALUE=DATE:20230407
DTEND;VALUE=DATE:20230408
DTSTAMP:20260423T012641
CREATED:20230407T015627Z
LAST-MODIFIED:20230407T015627Z
UID:4802-1680825600-1680911999@cristolarocaministerio.org
SUMMARY:Servicio Especial Viernes Santo
DESCRIPTION:Servicio Especial Viernes Santo\nAbril 7 2023 8:00 PM
URL:https://cristolarocaministerio.org/event/servicio-especial-viernes-santo/
ATTACH;FMTTYPE=image/jpeg:https://cristolarocaministerio.org/wp-content/uploads/2023/04/WhatsApp-Image-2023-04-06-at-6.23.37-PM.jpeg
END:VEVENT
BEGIN:VEVENT
DTSTART;VALUE=DATE:20230325
DTEND;VALUE=DATE:20230326
DTSTAMP:20260423T012641
CREATED:20230323T154646Z
LAST-MODIFIED:20230323T154646Z
UID:4790-1679702400-1679788799@cristolarocaministerio.org
SUMMARY:Encuentro de Hombres
DESCRIPTION:  \nSábado 25 de Marzo Horas 8:30 am
URL:https://cristolarocaministerio.org/event/encuentro-de-hombres/
ATTACH;FMTTYPE=image/jpeg:https://cristolarocaministerio.org/wp-content/uploads/2023/03/WhatsApp-Image-2023-03-23-at-6.57.13-AM.jpeg
END:VEVENT
BEGIN:VEVENT
DTSTART;VALUE=DATE:20230325
DTEND;VALUE=DATE:20230327
DTSTAMP:20260423T012641
CREATED:20230304T021321Z
LAST-MODIFIED:20230304T022518Z
UID:4747-1679702400-1679875199@cristolarocaministerio.org
SUMMARY:CLR ENCUENTRO DE HOMBRES
DESCRIPTION:“CLR ENCUENTRO DE HOMBRES”\nSábado 25 de Marzo 2023 \nHora 9:00 AM
URL:https://cristolarocaministerio.org/event/clr-encuentro-de-hombres/
ATTACH;FMTTYPE=image/jpeg:https://cristolarocaministerio.org/wp-content/uploads/2023/03/CRL-ENCUENTRO-HOMBRES-011.jpg
END:VEVENT
BEGIN:VEVENT
DTSTART;VALUE=DATE:20230325
DTEND;VALUE=DATE:20230326
DTSTAMP:20260423T012641
CREATED:20230304T020751Z
LAST-MODIFIED:20230304T022848Z
UID:4743-1679702400-1679788799@cristolarocaministerio.org
SUMMARY:CLR BAUTISMO EN AGUA
DESCRIPTION:Domingo 25 de Marzo \nInfo: 754-779-6475 WhatsApp
URL:https://cristolarocaministerio.org/event/clr-bautismo-en-agua/
ATTACH;FMTTYPE=image/jpeg:https://cristolarocaministerio.org/wp-content/uploads/2023/03/BAUTIZO-EN-AGUA-011.jpg
END:VEVENT
BEGIN:VEVENT
DTSTART;TZID=UTC:20230323T080000
DTEND;TZID=UTC:20230323T170000
DTSTAMP:20260423T012641
CREATED:20230323T155323Z
LAST-MODIFIED:20230323T155323Z
UID:4794-1679558400-1679590800@cristolarocaministerio.org
SUMMARY:SERVICIO DE SANIDAD Y SERVICIOS
DESCRIPTION:Viernes 24\,  8:00 pm\nSábado 25\,  6:00 pm
URL:https://cristolarocaministerio.org/event/servicio-de-sanidad-y-servicios/
ATTACH;FMTTYPE=image/jpeg:https://cristolarocaministerio.org/wp-content/uploads/2023/03/WhatsApp-Image-2023-03-22-at-8.20.32-AM-1.jpeg
END:VEVENT
BEGIN:VEVENT
DTSTART;TZID=UTC:20230323T080000
DTEND;TZID=UTC:20230323T170000
DTSTAMP:20260423T012641
CREATED:20230323T154940Z
LAST-MODIFIED:20230323T154940Z
UID:4792-1679558400-1679590800@cristolarocaministerio.org
SUMMARY:Intercesión Profética
DESCRIPTION:Lunes a Viernes 5:00 am.
URL:https://cristolarocaministerio.org/event/intercesion-profetica/
ATTACH;FMTTYPE=image/jpeg:https://cristolarocaministerio.org/wp-content/uploads/2023/03/WhatsApp-Image-2023-03-22-at-8.20.32-AM.jpeg
END:VEVENT
BEGIN:VEVENT
DTSTART;VALUE=DATE:20230310
DTEND;VALUE=DATE:20230311
DTSTAMP:20260423T012641
CREATED:20230308T123718Z
LAST-MODIFIED:20230308T123718Z
UID:4752-1678406400-1678492799@cristolarocaministerio.org
SUMMARY:Servicio de Vigilancia post encuentro
DESCRIPTION:Este Viernes 10 de Marzo de 8:00 p.m. a 3:00 a.m. 
URL:https://cristolarocaministerio.org/event/servicio-de-vigilancia-post-encuentro/
ATTACH;FMTTYPE=image/jpeg:https://cristolarocaministerio.org/wp-content/uploads/2023/03/WhatsApp-Image-2023-03-07-at-8.56.18-PM.jpeg
END:VEVENT
BEGIN:VEVENT
DTSTART;VALUE=DATE:20230218
DTEND;VALUE=DATE:20230219
DTSTAMP:20260423T012641
CREATED:20230211T024230Z
LAST-MODIFIED:20230211T035845Z
UID:4735-1676678400-1676764799@cristolarocaministerio.org
SUMMARY:Encuentro de Mujeres
DESCRIPTION:VALOR: $ 25 por persona Almuerzo y Cena incluida
URL:https://cristolarocaministerio.org/event/encuentro-de-mujeres/
ATTACH;FMTTYPE=image/jpeg:https://cristolarocaministerio.org/wp-content/uploads/2023/02/WhatsApp-Image-2023-02-10-at-9.00.26-PM.jpeg
END:VEVENT
BEGIN:VEVENT
DTSTART;TZID=UTC:20230111T080000
DTEND;TZID=UTC:20230111T170000
DTSTAMP:20260423T012641
CREATED:20230111T042209Z
LAST-MODIFIED:20230111T042228Z
UID:4717-1673424000-1673456400@cristolarocaministerio.org
SUMMARY:Cena para dos
DESCRIPTION:https://cristolarocaministerio.org/wp-content/uploads/2023/01/WhatsApp-Video-2023-01-10-at-6.57.16-PM.mp4\nhttps://cristolarocaministerio.org/wp-content/uploads/2023/01/WhatsApp-Video-2023-01-10-at-6.57.16-PM-1.mp4
URL:https://cristolarocaministerio.org/event/cena-para-dos/
ATTACH;FMTTYPE=image/jpeg:https://cristolarocaministerio.org/wp-content/uploads/2023/01/WhatsApp-Image-2023-01-10-at-6.56.55-PM.jpeg
END:VEVENT
BEGIN:VEVENT
DTSTART;VALUE=DATE:20230109
DTEND;VALUE=DATE:20230130
DTSTAMP:20260423T012641
CREATED:20230109T130939Z
LAST-MODIFIED:20230109T130939Z
UID:4715-1673222400-1675036799@cristolarocaministerio.org
SUMMARY:Ayuno de 21 días
DESCRIPTION:
URL:https://cristolarocaministerio.org/event/ayuno-de-21-dias/
ATTACH;FMTTYPE=image/jpeg:https://cristolarocaministerio.org/wp-content/uploads/2023/01/WhatsApp-Image-2023-01-08-at-10.04.43-PM.jpeg
END:VEVENT
BEGIN:VEVENT
DTSTART;TZID=UTC:20230107T060000
DTEND;TZID=UTC:20230107T180000
DTSTAMP:20260423T012641
CREATED:20230107T014613Z
LAST-MODIFIED:20230107T014613Z
UID:4694-1673071200-1673114400@cristolarocaministerio.org
SUMMARY:Ayuno Congregacional
DESCRIPTION:
URL:https://cristolarocaministerio.org/event/ayuno-congregacional/
ATTACH;FMTTYPE=image/jpeg:https://cristolarocaministerio.org/wp-content/uploads/2023/01/WhatsApp-Image-2023-01-06-at-8.40.31-PM.jpeg
END:VEVENT
BEGIN:VEVENT
DTSTART;TZID=UTC:20221225T110000
DTEND;TZID=UTC:20221225T170000
DTSTAMP:20260423T012641
CREATED:20221221T223833Z
LAST-MODIFIED:20221221T223921Z
UID:4685-1671966000-1671987600@cristolarocaministerio.org
SUMMARY:CLR SERVICIO DE AÑO NUEVO 2023
DESCRIPTION:
URL:https://cristolarocaministerio.org/event/clr-servicio-de-ano-nuevo-2023/
ATTACH;FMTTYPE=image/jpeg:https://cristolarocaministerio.org/wp-content/uploads/2022/12/WhatsApp-Image-2022-12-21-at-12.25.59-AM.jpeg
END:VEVENT
BEGIN:VEVENT
DTSTART;VALUE=DATE:20221210
DTEND;VALUE=DATE:20221211
DTSTAMP:20260423T012641
CREATED:20221124T162508Z
LAST-MODIFIED:20221124T163852Z
UID:4662-1670630400-1670716799@cristolarocaministerio.org
SUMMARY:Tres encuentros regionales
DESCRIPTION:
URL:https://cristolarocaministerio.org/event/4662/
ATTACH;FMTTYPE=image/jpeg:https://cristolarocaministerio.org/wp-content/uploads/2022/11/WhatsApp-Image-2022-11-18-at-6.35.29-PM-3.jpeg
END:VEVENT
BEGIN:VEVENT
DTSTART;TZID=UTC:20221209T200000
DTEND;TZID=UTC:20221209T220000
DTSTAMP:20260423T012641
CREATED:20221206T220301Z
LAST-MODIFIED:20221206T221010Z
UID:4674-1670616000-1670623200@cristolarocaministerio.org
SUMMARY:SERVICIO DE ORIENTACIÓN DE LA MEMBRECIA CLR
DESCRIPTION:
URL:https://cristolarocaministerio.org/event/servicio-de-orientacion-de-la-membrecia-clr/
ATTACH;FMTTYPE=image/jpeg:https://cristolarocaministerio.org/wp-content/uploads/2022/12/WhatsApp-Image-2022-12-06-at-12.11.53-PM.jpeg
END:VEVENT
BEGIN:VEVENT
DTSTART;VALUE=DATE:20221203
DTEND;VALUE=DATE:20221204
DTSTAMP:20260423T012641
CREATED:20221120T032557Z
LAST-MODIFIED:20221124T164301Z
UID:4350-1670025600-1670111999@cristolarocaministerio.org
SUMMARY:Music Students Concert
DESCRIPTION:
URL:https://cristolarocaministerio.org/event/music-students-concert/
ATTACH;FMTTYPE=image/jpeg:https://cristolarocaministerio.org/wp-content/uploads/2022/09/Music-Students-Concert.jpeg
END:VEVENT
BEGIN:VEVENT
DTSTART;VALUE=DATE:20221124
DTEND;VALUE=DATE:20221125
DTSTAMP:20260423T012641
CREATED:20221124T160814Z
LAST-MODIFIED:20221124T160814Z
UID:4651-1669248000-1669334399@cristolarocaministerio.org
SUMMARY:Servicio del día de Gracia
DESCRIPTION:
URL:https://cristolarocaministerio.org/event/servicio-del-dia-de-gracia/
ATTACH;FMTTYPE=image/jpeg:https://cristolarocaministerio.org/wp-content/uploads/2022/11/Servicio-del-dia-de-gracia.jpeg
END:VEVENT
BEGIN:VEVENT
DTSTART;TZID=UTC:20221119T080000
DTEND;TZID=UTC:20221119T170000
DTSTAMP:20260423T012641
CREATED:20221110T034446Z
LAST-MODIFIED:20221110T043705Z
UID:4604-1668844800-1668877200@cristolarocaministerio.org
SUMMARY:Sábado Multicultural
DESCRIPTION:VEN te INVITAMOS  a nuestro gran evento de Aniversario el “SABADO MULTICULTURAL” este19 de Noviembre a partir de las 2:00 PM\, tendremos grandes actividades para toda la Familia y la Comunidad\, comidas típicas de diferentes países\, trajes típicos\, sorteos y muchas sorpresas más\, te esperamos ven con la camiseta de tu Pais !!!!
URL:https://cristolarocaministerio.org/event/sabado-multicultural/
ATTACH;FMTTYPE=image/jpeg:https://cristolarocaministerio.org/wp-content/uploads/2022/11/WhatsApp-Image-2022-11-09-at-6.54.15-PM.jpeg
END:VEVENT
BEGIN:VEVENT
DTSTART;VALUE=DATE:20221119
DTEND;VALUE=DATE:20221121
DTSTAMP:20260423T012641
CREATED:20221021T132453Z
LAST-MODIFIED:20221027T023253Z
UID:4499-1668816000-1668988799@cristolarocaministerio.org
SUMMARY:Aniversario
DESCRIPTION:Gran Celebración de nuestro Aniversario 33\,\nVen te invitamos este sábado 19 y Domingo 20\, con grandes actividades para toda la Familia y la Comunidad\nEl sábado 19 Multicultural\, empieza a las  a las 2:00 pm  tendremos Diversión para toda la Familia\, comidas típicas de diferentes países\, trajes típicos\,!juegos para niños\, Pony Rides\, Bouncing House sorteos y muchas sorpresas más\nDomingo 20\, a las 11:00 am gran Servicio de Aniversario\, invitado especial Obispo\, Dr. Blas Ramírez\nTe esperamos no te lo pierdas
URL:https://cristolarocaministerio.org/event/aniversario/
ATTACH;FMTTYPE=image/jpeg:https://cristolarocaministerio.org/wp-content/uploads/2022/10/WhatsApp-Image-2022-10-21-at-5.45.29-AM.jpeg
END:VEVENT
BEGIN:VEVENT
DTSTART;TZID=UTC:20221030T110000
DTEND;TZID=UTC:20221030T170000
DTSTAMP:20260423T012641
CREATED:20221030T151312Z
LAST-MODIFIED:20221030T151339Z
UID:4596-1667127600-1667149200@cristolarocaministerio.org
SUMMARY:Día del Pastor
DESCRIPTION:
URL:https://cristolarocaministerio.org/event/dia-del-pastor/
ATTACH;FMTTYPE=image/jpeg:https://cristolarocaministerio.org/wp-content/uploads/2022/10/WhatsApp-Image-2022-10-27-at-8.02.30-PM.jpeg
END:VEVENT
BEGIN:VEVENT
DTSTART;VALUE=DATE:20221018
DTEND;VALUE=DATE:20221019
DTSTAMP:20260423T012641
CREATED:20221122T193140Z
LAST-MODIFIED:20221124T163424Z
UID:4496-1666051200-1666137599@cristolarocaministerio.org
SUMMARY:Campaña de Membresia
DESCRIPTION:
URL:https://cristolarocaministerio.org/event/campana-de-membresia/
ATTACH;FMTTYPE=image/jpeg:https://cristolarocaministerio.org/wp-content/uploads/2022/11/WhatsApp-Image-2022-11-18-at-6.35.29-PM-4.jpeg
END:VEVENT
BEGIN:VEVENT
DTSTART;TZID=UTC:20221007T080000
DTEND;TZID=UTC:20221007T170000
DTSTAMP:20260423T012641
CREATED:20221007T032003Z
LAST-MODIFIED:20221007T032003Z
UID:4469-1665129600-1665162000@cristolarocaministerio.org
SUMMARY:Servicio de Niños
DESCRIPTION:
URL:https://cristolarocaministerio.org/event/servicio-de-ninos/
ATTACH;FMTTYPE=image/jpeg:https://cristolarocaministerio.org/wp-content/uploads/2022/10/WhatsApp-Image-2022-10-03-at-10.05.39-PM.jpeg
END:VEVENT
BEGIN:VEVENT
DTSTART;TZID=UTC:20221007T080000
DTEND;TZID=UTC:20221007T170000
DTSTAMP:20260423T012641
CREATED:20221007T031644Z
LAST-MODIFIED:20221007T031644Z
UID:4466-1665129600-1665162000@cristolarocaministerio.org
SUMMARY:Grupo de Jóvenes todos los viernes
DESCRIPTION:
URL:https://cristolarocaministerio.org/event/grupo-de-jovenes-todos-los-viernes/
ATTACH;FMTTYPE=image/jpeg:https://cristolarocaministerio.org/wp-content/uploads/2022/10/WhatsApp-Image-2022-10-03-at-10.06.16-PM.jpeg
END:VEVENT
BEGIN:VEVENT
DTSTART;TZID=UTC:20221007T080000
DTEND;TZID=UTC:20221007T170000
DTSTAMP:20260423T012641
CREATED:20221007T031252Z
LAST-MODIFIED:20221007T031329Z
UID:4463-1665129600-1665162000@cristolarocaministerio.org
SUMMARY:Vigilia en oración por la apertura de Celulas
DESCRIPTION:
URL:https://cristolarocaministerio.org/event/vigilia-en-oracion-por-la-apertura-de-celulas/
ATTACH;FMTTYPE=image/jpeg:https://cristolarocaministerio.org/wp-content/uploads/2022/10/WhatsApp-Image-2022-10-03-at-10.05.55-PM.jpeg
END:VEVENT
BEGIN:VEVENT
DTSTART;VALUE=DATE:20220918
DTEND;VALUE=DATE:20220919
DTSTAMP:20260423T012641
CREATED:20220912T032800Z
LAST-MODIFIED:20220915T033521Z
UID:4353-1663459200-1663545599@cristolarocaministerio.org
SUMMARY:CRL Bautismo en Agua
DESCRIPTION:
URL:https://cristolarocaministerio.org/event/crl-bautismo-en-agua/
ATTACH;FMTTYPE=image/jpeg:https://cristolarocaministerio.org/wp-content/uploads/2022/09/CRL-Bautismo-en-agua.jpeg
END:VEVENT
BEGIN:VEVENT
DTSTART;VALUE=DATE:20220826
DTEND;VALUE=DATE:20220827
DTSTAMP:20260423T012641
CREATED:20220818T215824Z
LAST-MODIFIED:20220818T215932Z
UID:4335-1661472000-1661558399@cristolarocaministerio.org
SUMMARY:Una cita con tu pareja
DESCRIPTION:
URL:https://cristolarocaministerio.org/event/una-cita-con-tu-pareja/
ATTACH;FMTTYPE=image/jpeg:https://cristolarocaministerio.org/wp-content/uploads/2022/08/tu-pareja.jpeg
ORGANIZER;CN="Cristo la Roca Ministerio Internacional":MAILTO:cristolatocadeguimiento@outlook.com
END:VEVENT
BEGIN:VEVENT
DTSTART;VALUE=DATE:20220429
DTEND;VALUE=DATE:20220502
DTSTAMP:20260423T012641
CREATED:20190317T140745Z
LAST-MODIFIED:20220702T224826Z
UID:250-1651190400-1651449599@cristolarocaministerio.org
SUMMARY:Evento Profetico
DESCRIPTION:Ven y conectate con tu destino profetico\, Evento profetico\, Libre para triunfar.
URL:https://cristolarocaministerio.org/event/mens-breakfast/
LOCATION:Cristo la Roca Ministerio Internacinal\, 3000 W Prospect Rd Fort\, Lauderdale\, United States (US) —Florida\, 33309
ATTACH;FMTTYPE=image/jpeg:https://cristolarocaministerio.org/wp-content/uploads/2019/03/EVENTO-PROFETICO.jpeg
ORGANIZER;CN="Cristo la Roca Ministerio Internacional":MAILTO:cristolatocadeguimiento@outlook.com
END:VEVENT
END:VCALENDAR